BEGIN:VCALENDAR
VERSION:2.0
PRODID:-//Geflügelzucht und Vogelschutzverein Dettingen/Erms e. V. - ECPv6.15.20//NONSGML v1.0//EN
CALSCALE:GREGORIAN
METHOD:PUBLISH
X-WR-CALNAME:Geflügelzucht und Vogelschutzverein Dettingen/Erms e. V.
X-ORIGINAL-URL:https://gzv-dettingen.de
X-WR-CALDESC:Veranstaltungen für Geflügelzucht und Vogelschutzverein Dettingen/Erms e. V.
REFRESH-INTERVAL;VALUE=DURATION:PT1H
X-Robots-Tag:noindex
X-PUBLISHED-TTL:PT1H
BEGIN:VTIMEZONE
TZID:Europe/Berlin
BEGIN:DAYLIGHT
TZOFFSETFROM:+0100
TZOFFSETTO:+0200
TZNAME:CEST
DTSTART:20250330T010000
END:DAYLIGHT
BEGIN:STANDARD
TZOFFSETFROM:+0200
TZOFFSETTO:+0100
TZNAME:CET
DTSTART:20251026T010000
END:STANDARD
BEGIN:DAYLIGHT
TZOFFSETFROM:+0100
TZOFFSETTO:+0200
TZNAME:CEST
DTSTART:20260329T010000
END:DAYLIGHT
BEGIN:STANDARD
TZOFFSETFROM:+0200
TZOFFSETTO:+0100
TZNAME:CET
DTSTART:20261025T010000
END:STANDARD
BEGIN:DAYLIGHT
TZOFFSETFROM:+0100
TZOFFSETTO:+0200
TZNAME:CEST
DTSTART:20270328T010000
END:DAYLIGHT
BEGIN:STANDARD
TZOFFSETFROM:+0200
TZOFFSETTO:+0100
TZNAME:CET
DTSTART:20271031T010000
END:STANDARD
END:VTIMEZONE
BEGIN:VEVENT
DTSTART;TZID=Europe/Berlin:20260510T054500
DTEND;TZID=Europe/Berlin:20260510T150000
DTSTAMP:20260421T072710
CREATED:20260316T095847Z
LAST-MODIFIED:20260316T095847Z
UID:583-1778391900-1778425200@gzv-dettingen.de
SUMMARY:Vogelführung Donaumoos / Günzburg
DESCRIPTION:Führung Uwe Bayer. \nWir fahren ins Donaumoos bei Günzburg zur Vogelexkursion. \nTreffpunkt Bahnhof Mitte um 5:45 Uhr. \nTreffpunkt Burrenhof um 6:00 Uhr \n 
URL:https://gzv-dettingen.de/termin/vogelfuehrung-donaumoos-guenzburg-3/
END:VEVENT
BEGIN:VEVENT
DTSTART;TZID=Europe/Berlin:20260523T130000
DTEND;TZID=Europe/Berlin:20260523T133000
DTSTAMP:20260421T072710
CREATED:20260316T095932Z
LAST-MODIFIED:20260316T095932Z
UID:585-1779541200-1779543000@gzv-dettingen.de
SUMMARY:Impftermin Newcastle Zuchtanlage
DESCRIPTION:
URL:https://gzv-dettingen.de/termin/impftermin-newcastle-zuchtanlage-2/
END:VEVENT
BEGIN:VEVENT
DTSTART;VALUE=DATE:20260606
DTEND;VALUE=DATE:20260608
DTSTAMP:20260421T072710
CREATED:20260316T100046Z
LAST-MODIFIED:20260316T100046Z
UID:587-1780704000-1780876799@gzv-dettingen.de
SUMMARY:Landeszüchtertag in Nehren
DESCRIPTION:
URL:https://gzv-dettingen.de/termin/landeszuechtertag-in-nehren/
END:VEVENT
BEGIN:VEVENT
DTSTART;TZID=Europe/Berlin:20260620T150000
DTEND;TZID=Europe/Berlin:20260621T170000
DTSTAMP:20260421T072710
CREATED:20251111T142011Z
LAST-MODIFIED:20251111T142050Z
UID:562-1781967600-1782061200@gzv-dettingen.de
SUMMARY:Göckelesfest und Sport Event
DESCRIPTION:
URL:https://gzv-dettingen.de/termin/goeckelesfest-und-sport-event/
LOCATION:Ausstellungshalle\, Uferweg 15\, Dettingen an der Erms\, 72581
ORGANIZER;CN="Gefl%C3%BCgelzucht und Vogelschutzverein Dettingen/Erms e. V.":MAILTO:info@gzv-dettingen.de
END:VEVENT
BEGIN:VEVENT
DTSTART;TZID=Europe/Berlin:20260705T100000
DTEND;TZID=Europe/Berlin:20260705T120000
DTSTAMP:20260421T072710
CREATED:20260316T100756Z
LAST-MODIFIED:20260316T100756Z
UID:601-1783245600-1783252800@gzv-dettingen.de
SUMMARY:KV Sommerversammlung
DESCRIPTION:Sitzung beim KZV Dettingen Uracherstraße
URL:https://gzv-dettingen.de/termin/kv-sommerversammlung/
END:VEVENT
BEGIN:VEVENT
DTSTART;TZID=Europe/Berlin:20260912T130000
DTEND;TZID=Europe/Berlin:20260912T133000
DTSTAMP:20260421T072710
CREATED:20260316T100224Z
LAST-MODIFIED:20260316T100224Z
UID:589-1789218000-1789219800@gzv-dettingen.de
SUMMARY:Wiederholungsimpfung Newcastle Zuchtanlage
DESCRIPTION:
URL:https://gzv-dettingen.de/termin/wiederholungsimpfung-newcastle-zuchtanlage/
END:VEVENT
BEGIN:VEVENT
DTSTART;TZID=Europe/Berlin:20261004T100000
DTEND;TZID=Europe/Berlin:20261004T120000
DTSTAMP:20260421T072710
CREATED:20260316T100303Z
LAST-MODIFIED:20260316T100303Z
UID:591-1791108000-1791115200@gzv-dettingen.de
SUMMARY:KV Herbstversammlung Neuhausen
DESCRIPTION:
URL:https://gzv-dettingen.de/termin/kv-herbstversammlung-neuhausen/
END:VEVENT
BEGIN:VEVENT
DTSTART;VALUE=DATE:20261017
DTEND;VALUE=DATE:20261019
DTSTAMP:20260421T072710
CREATED:20260316T100401Z
LAST-MODIFIED:20260316T100401Z
UID:593-1792195200-1792367999@gzv-dettingen.de
SUMMARY:VHGW- Bundesschau\, Dt. Zwerghuhnschau Erfurt
DESCRIPTION:
URL:https://gzv-dettingen.de/termin/vhgw-bundesschau-dt-zwerghuhnschau-erfurt/
END:VEVENT
BEGIN:VEVENT
DTSTART;VALUE=DATE:20261023
DTEND;VALUE=DATE:20261026
DTSTAMP:20260421T072710
CREATED:20260316T100444Z
LAST-MODIFIED:20260316T100444Z
UID:595-1792713600-1792972799@gzv-dettingen.de
SUMMARY:Junggeflügelschau Hannover Bad Salzuflen
DESCRIPTION:
URL:https://gzv-dettingen.de/termin/junggefluegelschau-hannover-bad-salzuflen/
END:VEVENT
BEGIN:VEVENT
DTSTART;VALUE=DATE:20261114
DTEND;VALUE=DATE:20261116
DTSTAMP:20260421T072710
CREATED:20260316T100534Z
LAST-MODIFIED:20260316T100534Z
UID:597-1794614400-1794787199@gzv-dettingen.de
SUMMARY:Kreisgeflügelschau Münsingen
DESCRIPTION:
URL:https://gzv-dettingen.de/termin/kreisgefluegelschau-muensingen/
END:VEVENT
BEGIN:VEVENT
DTSTART;TZID=Europe/Berlin:20261205T140000
DTEND;TZID=Europe/Berlin:20261206T170000
DTSTAMP:20260421T072710
CREATED:20251111T142140Z
LAST-MODIFIED:20251111T142140Z
UID:564-1796479200-1796576400@gzv-dettingen.de
SUMMARY:Lokalschau
DESCRIPTION:
URL:https://gzv-dettingen.de/termin/lokalschau-5/
LOCATION:Ausstellungshalle\, Uferweg 15\, Dettingen an der Erms\, 72581
ORGANIZER;CN="Gefl%C3%BCgelzucht und Vogelschutzverein Dettingen/Erms e. V.":MAILTO:info@gzv-dettingen.de
END:VEVENT
BEGIN:VEVENT
DTSTART;VALUE=DATE:20261218
DTEND;VALUE=DATE:20261221
DTSTAMP:20260421T072710
CREATED:20260316T100623Z
LAST-MODIFIED:20260316T100623Z
UID:599-1797552000-1797811199@gzv-dettingen.de
SUMMARY:Deutsche Rassentaubenschau und Landesschau Ulm
DESCRIPTION:
URL:https://gzv-dettingen.de/termin/deutsche-rassentaubenschau-und-landesschau-ulm/
END:VEVENT
END:VCALENDAR